BEGIN:VCALENDAR
VERSION:2.0
PRODID:-//DJ Dan Line Dance - ECPv6.15.20//NONSGML v1.0//EN
CALSCALE:GREGORIAN
METHOD:PUBLISH
X-WR-CALNAME:DJ Dan Line Dance
X-ORIGINAL-URL:https://djdanlinedance.com
X-WR-CALDESC:Events for DJ Dan Line Dance
REFRESH-INTERVAL;VALUE=DURATION:PT1H
X-Robots-Tag:noindex
X-PUBLISHED-TTL:PT1H
BEGIN:VTIMEZONE
TZID:America/New_York
BEGIN:DAYLIGHT
TZOFFSETFROM:-0500
TZOFFSETTO:-0400
TZNAME:EDT
DTSTART:20240310T070000
END:DAYLIGHT
BEGIN:STANDARD
TZOFFSETFROM:-0400
TZOFFSETTO:-0500
TZNAME:EST
DTSTART:20241103T060000
END:STANDARD
BEGIN:DAYLIGHT
TZOFFSETFROM:-0500
TZOFFSETTO:-0400
TZNAME:EDT
DTSTART:20250309T070000
END:DAYLIGHT
BEGIN:STANDARD
TZOFFSETFROM:-0400
TZOFFSETTO:-0500
TZNAME:EST
DTSTART:20251102T060000
END:STANDARD
BEGIN:DAYLIGHT
TZOFFSETFROM:-0500
TZOFFSETTO:-0400
TZNAME:EDT
DTSTART:20260308T070000
END:DAYLIGHT
BEGIN:STANDARD
TZOFFSETFROM:-0400
TZOFFSETTO:-0500
TZNAME:EST
DTSTART:20261101T060000
END:STANDARD
END:VTIMEZONE
BEGIN:VEVENT
DTSTART;TZID=America/New_York:20250913T190000
DTEND;TZID=America/New_York:20250913T220000
DTSTAMP:20260424T112057
CREATED:20250801T211132Z
LAST-MODIFIED:20250816T212331Z
UID:2398-1757790000-1757800800@djdanlinedance.com
SUMMARY:Fred Astaire Dance Studio Line Dancing
DESCRIPTION:👢 Line Dancing at Fred Astaire Dance Studios – Collegeville 👢 \nJoin us every 2nd Saturday of the month for a night of Line Dancing fun! We’ll have you stepping\, stomping\, and sliding to all your favorite tunes. \n📍 Location: Fred Astaire Dance Studios – Collegeville\, 222 E Main St\, Collegeville\, PA 19426\n🕖 Time: 7:00 PM – 10:00 PM\n📅 When: 2nd Saturday of every month \n$10 Cover – includes tomato pie & water\nYou may also bring your own food and drink if you choose. \nGrab your friends and let’s hit the dance floor together! 🎶💃
URL:https://djdanlinedance.com/event/20250913/
LOCATION:Fred Astaire Dance Studios – Collegeville\, 222 E. Main Street\, Collegeville\, PA\, 19426\, United States
CATEGORIES:Line Dancing
ATTACH;FMTTYPE=image/jpeg:https://djdanlinedance.com/wp-content/uploads/2025/08/2398_image_526566975_1131894898995532_5672689530275880486_n.jpg
END:VEVENT
END:VCALENDAR